BEGIN:VCALENDAR
METHOD:PUBLISH
VERSION:2.0
CALSCALE:GREGORIAN
PRODID:-//NONSGML WPForms//NONSGML Sugar Calendar Feeds v3.10.0//EN
X-WR-CALNAME:Abolishing Abortion Conference & Mission - Love of Truth Mi
 nistries
X-WR-CALDESC:Abolitionists Rising
X-WR-TIMEZONE:UTC
BEGIN:VTIMEZONE
TZID:UTC
BEGIN:STANDARD
TZOFFSETFROM:+0000
TZOFFSETTO:+0000
DTSTART:20251023T040000
TZNAME:UTC
END:STANDARD
END:VTIMEZONE
BEGIN:VTIMEZONE
TZID:UTC
BEGIN:STANDARD
TZOFFSETFROM:+0000
TZOFFSETTO:+0000
DTSTART:20251023T040000
TZNAME:UTC
END:STANDARD
END:VTIMEZONE
BEGIN:VEVENT
SUMMARY:Abolishing Abortion Conference & Mission - Love of Truth Ministr
 ies
DESCRIPTION:
URL;VALUE=URI:https://abolitionistsrising.com/events/abolishing-abortion
 -conference-mission-love-of-truth-ministries/
UID:urn:uuid:ef1b4166-8285-49ee-92d9-e502a361dd26
STATUS:CONFIRMED
ORGANIZER:
DTSTAMP:20260423T180512Z
DTSTART;TZID=UTC:20260423T160000
DTEND;TZID=UTC:20260425T120000
END:VEVENT
END:VCALENDAR